BEGIN:VCALENDAR
VERSION:2.0
PRODID:-//COMIC ART MUSEUM - ECPv6.15.20//NONSGML v1.0//EN
CALSCALE:GREGORIAN
METHOD:PUBLISH
X-WR-CALNAME:COMIC ART MUSEUM
X-ORIGINAL-URL:https://camh.be
X-WR-CALDESC:Events voor COMIC ART MUSEUM
REFRESH-INTERVAL;VALUE=DURATION:PT1H
X-Robots-Tag:noindex
X-PUBLISHED-TTL:PT1H
BEGIN:VTIMEZONE
TZID:UTC
BEGIN:STANDARD
TZOFFSETFROM:+0000
TZOFFSETTO:+0000
TZNAME:UTC
DTSTART:20220101T000000
END:STANDARD
END:VTIMEZONE
BEGIN:VEVENT
DTSTART;VALUE=DATE:20230216
DTEND;VALUE=DATE:20240315
DTSTAMP:20260422T191831
CREATED:20190604T065349Z
LAST-MODIFIED:20210904T115815Z
UID:483-1676505600-1710460799@camh.be
SUMMARY:Bernard van Orley At Saint-Géry
DESCRIPTION:Etiam semper\, nunc vitae volutpat efficitur\, elit nibh egestas velit\, amet euismod justo justo pharetra ipsum. Mauris tincidunt magna\, ut fringilla erat ultrices et. Class aptent taciti sociosqu ad litora torquent per conubia nostra\, per inceptos himenaeos. Donec a metus eget libero efficitur tempor. Mauris bibendum mi leo\, at pulvinar leo cursus congue. Aenean tristique metus diam\, id mollis magna efficitur nec. Sed enenatis arcu nisl\, ac pharetra felis vestibulum vitae. Aenean sit amet pharetra eros\, et condimentum tortor. Class aptent taciti sociosqu ad litora torquent per conubia nostra\, per inceptos himenaeos. Aenean a dolor turpis. 								\n				\n				\n				\n					Buy Ticket
URL:https://camh.be/event/bernard-van-orley-at-saint-gery/
LOCATION:Queens\, New York\, 34th Ave\, NY\, 11106\, United States
CATEGORIES:Invitation
ATTACH;FMTTYPE=image/jpeg:https://camh.be/wp-content/uploads/2019/05/image-36-copyright.jpg
ORGANIZER;CN="Ozeum Art & History Museum":MAILTO:yoursite@example.com
END:VEVENT
BEGIN:VEVENT
DTSTART;TZID=UTC:20230215T080000
DTEND;TZID=UTC:20230321T170000
DTSTAMP:20260422T191831
CREATED:20190530T125124Z
LAST-MODIFIED:20191207T135059Z
UID:267-1676448000-1679418000@camh.be
SUMMARY:"Country Road in Provence by Night"
DESCRIPTION:Etiam semper\, nunc vitae volutpat efficitur\, elit nibh egestas velit\, amet euismod justo justo pharetra ipsum. Mauris tincidunt magna\, ut fringilla erat ultrices et. Class aptent taciti sociosqu ad litora torquent per conubia nostra\, per inceptos himenaeos. Donec a metus eget libero efficitur tempor. Mauris bibendum mi leo\, at pulvinar leo cursus congue. Aenean tristique metus diam\, id mollis magna efficitur nec. Sed enenatis arcu nisl\, ac pharetra felis vestibulum vitae. Aenean sit amet pharetra eros\, et condimentum tortor. Class aptent taciti sociosqu ad litora torquent per conubia nostra\, per inceptos himenaeos. Aenean a dolor turpis. 								\n				\n				\n				\n					Buy Ticket
URL:https://camh.be/event/country-road-in-provence-by-night/
LOCATION:Queens\, New York\, 34th Ave\, NY\, 11106\, United States
CATEGORIES:Exhibitions
ATTACH;FMTTYPE=image/jpeg:https://camh.be/wp-content/uploads/2019/05/image-70-copyright.jpg
ORGANIZER;CN="Ozeum Art & History Museum":MAILTO:yoursite@example.com
END:VEVENT
END:VCALENDAR