BEGIN:VCALENDAR
VERSION:2.0
PRODID:-//COMIC ART MUSEUM - ECPv6.15.20//NONSGML v1.0//EN
CALSCALE:GREGORIAN
METHOD:PUBLISH
X-ORIGINAL-URL:https://camh.be
X-WR-CALDESC:Events voor COMIC ART MUSEUM
REFRESH-INTERVAL;VALUE=DURATION:PT1H
X-Robots-Tag:noindex
X-PUBLISHED-TTL:PT1H
BEGIN:VTIMEZONE
TZID:UTC
BEGIN:STANDARD
TZOFFSETFROM:+0000
TZOFFSETTO:+0000
TZNAME:UTC
DTSTART:20220101T000000
END:STANDARD
END:VTIMEZONE
BEGIN:VEVENT
DTSTART;VALUE=DATE:20240201
DTEND;VALUE=DATE:20240219
DTSTAMP:20260422T174606
CREATED:20190606T064320Z
LAST-MODIFIED:20191207T094832Z
UID:690-1706745600-1708300799@camh.be
SUMMARY:Pieter Bruegel The Elder
DESCRIPTION:Etiam semper\, nunc vitae volutpat efficitur\, elit nibh egestas velit\, amet euismod justo justo pharetra ipsum. Mauris tincidunt magna\, ut fringilla erat ultrices et. Class aptent taciti sociosqu ad litora torquent per conubia nostra\, per inceptos himenaeos. Donec a metus eget libero efficitur tempor. Mauris bibendum mi leo\, at pulvinar leo cursus congue. Aenean tristique metus diam\, id mollis magna efficitur nec. Sed enenatis arcu nisl\, ac pharetra felis vestibulum vitae. Aenean sit amet pharetra eros\, et condimentum tortor. Class aptent taciti sociosqu ad litora torquent per conubia nostra\, per inceptos himenaeos. Aenean a dolor turpis. 								\n				\n				\n				\n					Buy Ticket
URL:https://camh.be/event/pieter-bruegel-the-elder/
LOCATION:Queens\, New York\, 34th Ave\, NY\, 11106\, United States
CATEGORIES:Galleries
ATTACH;FMTTYPE=image/jpeg:https://camh.be/wp-content/uploads/2019/06/image-46-copyright.jpg
ORGANIZER;CN="Ozeum Art & History Museum":MAILTO:yoursite@example.com
END:VEVENT
BEGIN:VEVENT
DTSTART;VALUE=DATE:20240110
DTEND;VALUE=DATE:20240207
DTSTAMP:20260422T174606
CREATED:20190604T065223Z
LAST-MODIFIED:20191207T145408Z
UID:480-1704844800-1707263999@camh.be
SUMMARY:Records & Rebels 1966-1970
DESCRIPTION:Etiam semper\, nunc vitae volutpat efficitur\, elit nibh egestas velit\, amet euismod justo justo pharetra ipsum. Mauris tincidunt magna\, ut fringilla erat ultrices et. Class aptent taciti sociosqu ad litora torquent per conubia nostra\, per inceptos himenaeos. Donec a metus eget libero efficitur tempor. Mauris bibendum mi leo\, at pulvinar leo cursus congue. Aenean tristique metus diam\, id mollis magna efficitur nec. Sed enenatis arcu nisl\, ac pharetra felis vestibulum vitae. Aenean sit amet pharetra eros\, et condimentum tortor. Class aptent taciti sociosqu ad litora torquent per conubia nostra\, per inceptos himenaeos. Aenean a dolor turpis. 								\n				\n				\n				\n					Buy Ticket
URL:https://camh.be/event/records-rebels-1966-1970/
LOCATION:Queens\, New York\, 34th Ave\, NY\, 11106\, United States
CATEGORIES:Invitation
ATTACH;FMTTYPE=image/jpeg:https://camh.be/wp-content/uploads/2019/06/image-45-copyright.jpg
ORGANIZER;CN="Ozeum Art & History Museum":MAILTO:yoursite@example.com
END:VEVENT
BEGIN:VEVENT
DTSTART;TZID=UTC:20231220T080000
DTEND;TZID=UTC:20240116T170000
DTSTAMP:20260422T174606
CREATED:20190531T061521Z
LAST-MODIFIED:20191207T094953Z
UID:283-1703059200-1705424400@camh.be
SUMMARY:Jean Francois De Troy "Bathsheba At Her Toilet"
DESCRIPTION:Etiam semper\, nunc vitae volutpat efficitur\, elit nibh egestas velit\, amet euismod justo justo pharetra ipsum. Mauris tincidunt magna\, ut fringilla erat ultrices et. Class aptent taciti sociosqu ad litora torquent per conubia nostra\, per inceptos himenaeos. Donec a metus eget libero efficitur tempor. Mauris bibendum mi leo\, at pulvinar leo cursus congue. Aenean tristique metus diam\, id mollis magna efficitur nec. Sed enenatis arcu nisl\, ac pharetra felis vestibulum vitae. Aenean sit amet pharetra eros\, et condimentum tortor. Class aptent taciti sociosqu ad litora torquent per conubia nostra\, per inceptos himenaeos. Aenean a dolor turpis. 								\n				\n				\n				\n					Buy Ticket
URL:https://camh.be/event/jean-francois-de-troy-bathsheba-at-her-toilet/
LOCATION:Queens\, New York\, 34th Ave\, NY\, 11106\, United States
CATEGORIES:Exhibitions
ATTACH;FMTTYPE=image/jpeg:https://camh.be/wp-content/uploads/2019/06/image-42-copyright.jpg
ORGANIZER;CN="Ozeum Art & History Museum":MAILTO:yoursite@example.com
END:VEVENT
BEGIN:VEVENT
DTSTART;VALUE=DATE:20231201
DTEND;VALUE=DATE:20231220
DTSTAMP:20260422T174606
CREATED:20190604T065111Z
LAST-MODIFIED:20191207T145523Z
UID:478-1701388800-1703030399@camh.be
SUMMARY:Golden Age of Renaissance Exhibition
DESCRIPTION:Etiam semper\, nunc vitae volutpat efficitur\, elit nibh egestas velit\, amet euismod justo justo pharetra ipsum. Mauris tincidunt magna\, ut fringilla erat ultrices et. Class aptent taciti sociosqu ad litora torquent per conubia nostra\, per inceptos himenaeos. Donec a metus eget libero efficitur tempor. Mauris bibendum mi leo\, at pulvinar leo cursus congue. Aenean tristique metus diam\, id mollis magna efficitur nec. Sed enenatis arcu nisl\, ac pharetra felis vestibulum vitae. Aenean sit amet pharetra eros\, et condimentum tortor. Class aptent taciti sociosqu ad litora torquent per conubia nostra\, per inceptos himenaeos. Aenean a dolor turpis. 								\n				\n				\n				\n					Buy Ticket
URL:https://camh.be/event/golden-age-of-renaissance-exhibition/
LOCATION:Queens\, New York\, 34th Ave\, NY\, 11106\, United States
CATEGORIES:Invitation
ATTACH;FMTTYPE=image/jpeg:https://camh.be/wp-content/uploads/2019/05/image-40-copyright.jpg
ORGANIZER;CN="Ozeum Art & History Museum":MAILTO:yoursite@example.com
END:VEVENT
BEGIN:VEVENT
DTSTART;VALUE=DATE:20231101
DTEND;VALUE=DATE:20231129
DTSTAMP:20260422T174606
CREATED:20190531T061026Z
LAST-MODIFIED:20191207T095057Z
UID:280-1698796800-1701215999@camh.be
SUMMARY:Unique Exhibition Johan Zoffany
DESCRIPTION:Etiam semper\, nunc vitae volutpat efficitur\, elit nibh egestas velit\, amet euismod justo justo pharetra ipsum. Mauris tincidunt magna\, ut fringilla erat ultrices et. Class aptent taciti sociosqu ad litora torquent per conubia nostra\, per inceptos himenaeos. Donec a metus eget libero efficitur tempor. Mauris bibendum mi leo\, at pulvinar leo cursus congue. Aenean tristique metus diam\, id mollis magna efficitur nec. Sed enenatis arcu nisl\, ac pharetra felis vestibulum vitae. Aenean sit amet pharetra eros\, et condimentum tortor. Class aptent taciti sociosqu ad litora torquent per conubia nostra\, per inceptos himenaeos. Aenean a dolor turpis. 								\n				\n				\n				\n					Buy Ticket
URL:https://camh.be/event/unique-exhibition-johan-zoffany/
LOCATION:Queens\, New York\, 34th Ave\, NY\, 11106\, United States
CATEGORIES:Exhibitions
ATTACH;FMTTYPE=image/jpeg:https://camh.be/wp-content/uploads/2019/05/image-32-copyright.jpg
ORGANIZER;CN="Ozeum Art & History Museum":MAILTO:yoursite@example.com
END:VEVENT
BEGIN:VEVENT
DTSTART;TZID=UTC:20231017T080000
DTEND;TZID=UTC:20231108T170000
DTSTAMP:20260422T174606
CREATED:20190531T060808Z
LAST-MODIFIED:20191207T095134Z
UID:277-1697529600-1699462800@camh.be
SUMMARY:Franklin Carmichael - "Autumn Hillside"
DESCRIPTION:Etiam semper\, nunc vitae volutpat efficitur\, elit nibh egestas velit\, amet euismod justo justo pharetra ipsum. Mauris tincidunt magna\, ut fringilla erat ultrices et. Class aptent taciti sociosqu ad litora torquent per conubia nostra\, per inceptos himenaeos. Donec a metus eget libero efficitur tempor. Mauris bibendum mi leo\, at pulvinar leo cursus congue. Aenean tristique metus diam\, id mollis magna efficitur nec. Sed enenatis arcu nisl\, ac pharetra felis vestibulum vitae. Aenean sit amet pharetra eros\, et condimentum tortor. Class aptent taciti sociosqu ad litora torquent per conubia nostra\, per inceptos himenaeos. Aenean a dolor turpis. 								\n				\n				\n				\n					Buy Ticket
URL:https://camh.be/event/franklin-carmichael-autumn-hillside/
LOCATION:Queens\, New York\, 34th Ave\, NY\, 11106\, United States
CATEGORIES:Exhibitions
ATTACH;FMTTYPE=image/jpeg:https://camh.be/wp-content/uploads/2019/05/image-18-copyright.jpg
ORGANIZER;CN="Ozeum Art & History Museum":MAILTO:yoursite@example.com
END:VEVENT
BEGIN:VEVENT
DTSTART;TZID=UTC:20230918T080000
DTEND;TZID=UTC:20231016T170000
DTSTAMP:20260422T174606
CREATED:20190531T055858Z
LAST-MODIFIED:20191207T095157Z
UID:274-1695024000-1697475600@camh.be
SUMMARY:"The Pilgrim Mourning His Dead Ass"
DESCRIPTION:Etiam semper\, nunc vitae volutpat efficitur\, elit nibh egestas velit\, amet euismod justo justo pharetra ipsum. Mauris tincidunt magna\, ut fringilla erat ultrices et. Class aptent taciti sociosqu ad litora torquent per conubia nostra\, per inceptos himenaeos. Donec a metus eget libero efficitur tempor. Mauris bibendum mi leo\, at pulvinar leo cursus congue. Aenean tristique metus diam\, id mollis magna efficitur nec. Sed enenatis arcu nisl\, ac pharetra felis vestibulum vitae. Aenean sit amet pharetra eros\, et condimentum tortor. Class aptent taciti sociosqu ad litora torquent per conubia nostra\, per inceptos himenaeos. Aenean a dolor turpis. 								\n				\n				\n				\n					Buy Ticket
URL:https://camh.be/event/the-pilgrim-mourning-his-dead-ass/
LOCATION:Queens\, New York\, 34th Ave\, NY\, 11106\, United States
CATEGORIES:Exhibitions
ATTACH;FMTTYPE=image/jpeg:https://camh.be/wp-content/uploads/2019/05/image-72-copyright.jpg
ORGANIZER;CN="Ozeum Art & History Museum":MAILTO:yoursite@example.com
END:VEVENT
BEGIN:VEVENT
DTSTART;TZID=UTC:20230820T080000
DTEND;TZID=UTC:20230923T170000
DTSTAMP:20260422T174606
CREATED:20190531T053941Z
LAST-MODIFIED:20191207T095209Z
UID:271-1692518400-1695488400@camh.be
SUMMARY:Damaskenos Michael - "Four military saints"
DESCRIPTION:Etiam semper\, nunc vitae volutpat efficitur\, elit nibh egestas velit\, amet euismod justo justo pharetra ipsum. Mauris tincidunt magna\, ut fringilla erat ultrices et. Class aptent taciti sociosqu ad litora torquent per conubia nostra\, per inceptos himenaeos. Donec a metus eget libero efficitur tempor. Mauris bibendum mi leo\, at pulvinar leo cursus congue. Aenean tristique metus diam\, id mollis magna efficitur nec. Sed enenatis arcu nisl\, ac pharetra felis vestibulum vitae. Aenean sit amet pharetra eros\, et condimentum tortor. Class aptent taciti sociosqu ad litora torquent per conubia nostra\, per inceptos himenaeos. Aenean a dolor turpis. 								\n				\n				\n				\n					Buy Ticket
URL:https://camh.be/event/damaskenos-michael-four-military-saints/
LOCATION:Queens\, New York\, 34th Ave\, NY\, 11106\, United States
CATEGORIES:Exhibitions
ATTACH;FMTTYPE=image/jpeg:https://camh.be/wp-content/uploads/2019/05/image-71-copyright.jpg
ORGANIZER;CN="Ozeum Art & History Museum":MAILTO:yoursite@example.com
END:VEVENT
BEGIN:VEVENT
DTSTART;VALUE=DATE:20230815
DTEND;VALUE=DATE:20230924
DTSTAMP:20260422T174606
CREATED:20190530T123145Z
LAST-MODIFIED:20191207T095220Z
UID:263-1692057600-1695513599@camh.be
SUMMARY:William Turner and the Modern World
DESCRIPTION:Etiam semper\, nunc vitae volutpat efficitur\, elit nibh egestas velit\, amet euismod justo justo pharetra ipsum. Mauris tincidunt magna\, ut fringilla erat ultrices et. Class aptent taciti sociosqu ad litora torquent per conubia nostra\, per inceptos himenaeos. Donec a metus eget libero efficitur tempor. Mauris bibendum mi leo\, at pulvinar leo cursus congue. Aenean tristique metus diam\, id mollis magna efficitur nec. Sed enenatis arcu nisl\, ac pharetra felis vestibulum vitae. Aenean sit amet pharetra eros\, et condimentum tortor. Class aptent taciti sociosqu ad litora torquent per conubia nostra\, per inceptos himenaeos. Aenean a dolor turpis. 								\n				\n				\n				\n					Buy Ticket
URL:https://camh.be/event/william-turner-and-the-modern-world/
LOCATION:Queens\, New York\, 34th Ave\, NY\, 11106\, United States
CATEGORIES:Exhibitions
ATTACH;FMTTYPE=image/jpeg:https://camh.be/wp-content/uploads/2019/05/image-2-copyright.jpg
ORGANIZER;CN="Ozeum Art & History Museum":MAILTO:yoursite@example.com
END:VEVENT
BEGIN:VEVENT
DTSTART;VALUE=DATE:20230516
DTEND;VALUE=DATE:20240617
DTSTAMP:20260422T174606
CREATED:20190610T092848Z
LAST-MODIFIED:20210904T115727Z
UID:860-1684195200-1718582399@camh.be
SUMMARY:Ilya Repin
DESCRIPTION:Etiam semper\, nunc vitae volutpat efficitur\, elit nibh egestas velit\, amet euismod justo justo pharetra ipsum. Mauris tincidunt magna\, ut fringilla erat ultrices et. Class aptent taciti sociosqu ad litora torquent per conubia nostra\, per inceptos himenaeos. Donec a metus eget libero efficitur tempor. Mauris bibendum mi leo\, at pulvinar leo cursus congue. Aenean tristique metus diam\, id mollis magna efficitur nec. Sed enenatis arcu nisl\, ac pharetra felis vestibulum vitae. Aenean sit amet pharetra eros\, et condimentum tortor. Class aptent taciti sociosqu ad litora torquent per conubia nostra\, per inceptos himenaeos. Aenean a dolor turpis. 								\n				\n				\n				\n					Buy Ticket
URL:https://camh.be/event/ilya-repin/
LOCATION:Queens\, New York\, 34th Ave\, NY\, 11106\, United States
CATEGORIES:Classics
ATTACH;FMTTYPE=image/jpeg:https://camh.be/wp-content/uploads/2019/06/image-82-copyright.jpg
ORGANIZER;CN="Ozeum Art & History Museum":MAILTO:yoursite@example.com
END:VEVENT
BEGIN:VEVENT
DTSTART;VALUE=DATE:20230408
DTEND;VALUE=DATE:20240512
DTSTAMP:20260422T174606
CREATED:20190606T064720Z
LAST-MODIFIED:20210904T115748Z
UID:694-1680912000-1715471999@camh.be
SUMMARY:Jean-Francois De Troy
DESCRIPTION:Etiam semper\, nunc vitae volutpat efficitur\, elit nibh egestas velit\, amet euismod justo justo pharetra ipsum. Mauris tincidunt magna\, ut fringilla erat ultrices et. Class aptent taciti sociosqu ad litora torquent per conubia nostra\, per inceptos himenaeos. Donec a metus eget libero efficitur tempor. Mauris bibendum mi leo\, at pulvinar leo cursus congue. Aenean tristique metus diam\, id mollis magna efficitur nec. Sed enenatis arcu nisl\, ac pharetra felis vestibulum vitae. Aenean sit amet pharetra eros\, et condimentum tortor. Class aptent taciti sociosqu ad litora torquent per conubia nostra\, per inceptos himenaeos. Aenean a dolor turpis. 								\n				\n				\n				\n					Buy Ticket
URL:https://camh.be/event/jean-francois-de-troy/
LOCATION:Queens\, New York\, 34th Ave\, NY\, 11106\, United States
CATEGORIES:Galleries
ATTACH;FMTTYPE=image/jpeg:https://camh.be/wp-content/uploads/2019/05/image-4-copyright.jpg
ORGANIZER;CN="Ozeum Art & History Museum":MAILTO:yoursite@example.com
END:VEVENT
BEGIN:VEVENT
DTSTART;VALUE=DATE:20230322
DTEND;VALUE=DATE:20240421
DTSTAMP:20260422T174606
CREATED:20190606T064449Z
LAST-MODIFIED:20210904T115803Z
UID:692-1679443200-1713657599@camh.be
SUMMARY:Caravaggio Michelangelo Merisi
DESCRIPTION:Etiam semper\, nunc vitae volutpat efficitur\, elit nibh egestas velit\, amet euismod justo justo pharetra ipsum. Mauris tincidunt magna\, ut fringilla erat ultrices et. Class aptent taciti sociosqu ad litora torquent per conubia nostra\, per inceptos himenaeos. Donec a metus eget libero efficitur tempor. Mauris bibendum mi leo\, at pulvinar leo cursus congue. Aenean tristique metus diam\, id mollis magna efficitur nec. Sed enenatis arcu nisl\, ac pharetra felis vestibulum vitae. Aenean sit amet pharetra eros\, et condimentum tortor. Class aptent taciti sociosqu ad litora torquent per conubia nostra\, per inceptos himenaeos. Aenean a dolor turpis. 								\n				\n				\n				\n					Buy Ticket
URL:https://camh.be/event/caravaggio-michelangelo-merisi/
LOCATION:Queens\, New York\, 34th Ave\, NY\, 11106\, United States
CATEGORIES:Galleries
ATTACH;FMTTYPE=image/jpeg:https://camh.be/wp-content/uploads/2019/05/image-13-copyright.jpg
ORGANIZER;CN="Ozeum Art & History Museum":MAILTO:yoursite@example.com
END:VEVENT
BEGIN:VEVENT
DTSTART;VALUE=DATE:20230216
DTEND;VALUE=DATE:20240315
DTSTAMP:20260422T174606
CREATED:20190604T065349Z
LAST-MODIFIED:20210904T115815Z
UID:483-1676505600-1710460799@camh.be
SUMMARY:Bernard van Orley At Saint-Géry
DESCRIPTION:Etiam semper\, nunc vitae volutpat efficitur\, elit nibh egestas velit\, amet euismod justo justo pharetra ipsum. Mauris tincidunt magna\, ut fringilla erat ultrices et. Class aptent taciti sociosqu ad litora torquent per conubia nostra\, per inceptos himenaeos. Donec a metus eget libero efficitur tempor. Mauris bibendum mi leo\, at pulvinar leo cursus congue. Aenean tristique metus diam\, id mollis magna efficitur nec. Sed enenatis arcu nisl\, ac pharetra felis vestibulum vitae. Aenean sit amet pharetra eros\, et condimentum tortor. Class aptent taciti sociosqu ad litora torquent per conubia nostra\, per inceptos himenaeos. Aenean a dolor turpis. 								\n				\n				\n				\n					Buy Ticket
URL:https://camh.be/event/bernard-van-orley-at-saint-gery/
LOCATION:Queens\, New York\, 34th Ave\, NY\, 11106\, United States
CATEGORIES:Invitation
ATTACH;FMTTYPE=image/jpeg:https://camh.be/wp-content/uploads/2019/05/image-36-copyright.jpg
ORGANIZER;CN="Ozeum Art & History Museum":MAILTO:yoursite@example.com
END:VEVENT
BEGIN:VEVENT
DTSTART;TZID=UTC:20230215T080000
DTEND;TZID=UTC:20230321T170000
DTSTAMP:20260422T174606
CREATED:20190530T125124Z
LAST-MODIFIED:20191207T135059Z
UID:267-1676448000-1679418000@camh.be
SUMMARY:"Country Road in Provence by Night"
DESCRIPTION:Etiam semper\, nunc vitae volutpat efficitur\, elit nibh egestas velit\, amet euismod justo justo pharetra ipsum. Mauris tincidunt magna\, ut fringilla erat ultrices et. Class aptent taciti sociosqu ad litora torquent per conubia nostra\, per inceptos himenaeos. Donec a metus eget libero efficitur tempor. Mauris bibendum mi leo\, at pulvinar leo cursus congue. Aenean tristique metus diam\, id mollis magna efficitur nec. Sed enenatis arcu nisl\, ac pharetra felis vestibulum vitae. Aenean sit amet pharetra eros\, et condimentum tortor. Class aptent taciti sociosqu ad litora torquent per conubia nostra\, per inceptos himenaeos. Aenean a dolor turpis. 								\n				\n				\n				\n					Buy Ticket
URL:https://camh.be/event/country-road-in-provence-by-night/
LOCATION:Queens\, New York\, 34th Ave\, NY\, 11106\, United States
CATEGORIES:Exhibitions
ATTACH;FMTTYPE=image/jpeg:https://camh.be/wp-content/uploads/2019/05/image-70-copyright.jpg
ORGANIZER;CN="Ozeum Art & History Museum":MAILTO:yoursite@example.com
END:VEVENT
END:VCALENDAR